BEGIN:VCALENDAR
VERSION:2.0
PRODID:-//wp-events-plugin.com//6.4.10.2//EN
TZID:America/Vancouver
X-WR-TIMEZONE:America/Vancouver
BEGIN:VEVENT
UID:754@lvss.ca
DTSTART;TZID=America/Vancouver:20240211T150000
DTEND;TZID=America/Vancouver:20240211T163000
DTSTAMP:20240209T203304Z
URL:https://www.lvss.ca/programs-events/zentangle-inspired-watercolour-cla
 ss/
SUMMARY:Zentangle Inspired Watercolour Class
DESCRIPTION:In this 1.5 hour class\, you will learn a quick\, simple way to
  create a watercolour background on your tile. Please bring your Zentangle
  mini kit from Zentangle 101. All other material will be provided for you!
  Class is from 3-4 pm To register\, please call NVRC at : 604-987-PLAY(752
 9). Course ID: 00270609\n
ATTACH;FMTTYPE=image/jpeg:https://www.lvss.ca/wp-content/uploads/2023/09/z
 engtangle-2.jpg
CATEGORIES:Zentangle,All Registered Programs
LOCATION:The Mollie Nye House\, 940 Lynn Valley Rd\, North Vancouver\, BC\,
  V7J 1Z7\, Canada
X-APPLE-STRUCTURED-LOCATION;VALUE=URI;X-ADDRESS=940 Lynn Valley Rd\, North 
 Vancouver\, BC\, V7J 1Z7\, Canada;X-APPLE-RADIUS=100;X-TITLE=The Mollie Ny
 e House:geo:0,0
END:VEVENT
BEGIN:VTIMEZONE
TZID:America/Vancouver
X-LIC-LOCATION:America/Vancouver
BEGIN:STANDARD
DTSTART:20231105T010000
TZOFFSETFROM:-0700
TZOFFSETTO:-0800
TZNAME:PST
END:STANDARD
END:VTIMEZONE
END:VCALENDAR