BEGIN:VCALENDAR
VERSION:2.0
PRODID:-//wp-events-plugin.com//6.4.10.2//EN
TZID:America/Vancouver
X-WR-TIMEZONE:America/Vancouver
BEGIN:VEVENT
UID:773@lvss.ca
DTSTART;TZID=America/Vancouver:20240505T130000
DTEND;TZID=America/Vancouver:20240505T143000
DTSTAMP:20240307T174601Z
URL:https://www.lvss.ca/programs-events/zentangle-101-the-basics-class-3/
SUMMARY:Zentangle 101: The Basics Class
DESCRIPTION:Zentangle is a method of drawing that uses 8 basic steps to cre
 ate beautiful artwork. It is easy to learn\, relaxing and fun! No drawing 
 experience needed. \n\nSunday\, May 5\, 2024 from 1pm-2:30pm\nClass fee (d
 ue at registration) $35 + $15 supplies (collected at class)\n\nClick here 
 to register\n\nIn this 1.5 hr class you with learn the basics of Zentangle
  including the history\, philosophy\, and terminology from a certified Zen
 tangle teacher. You will be guided through the foundational "tangles" crea
 ting a unique tile.\n\nEverything you need will be provided in your own mi
 ni Zentangle Mini Kit. Once the class is completed\, you can take your Min
 i Kit home and continue your Zentangle journey. 
ATTACH;FMTTYPE=image/jpeg:https://www.lvss.ca/wp-content/uploads/2024/03/Z
 entangle-101.jpg
CATEGORIES:All Activities,Zentangle,All Registered Programs
LOCATION:The Mollie Nye House\, 940 Lynn Valley Rd\, North Vancouver\, BC\,
  V7J 1Z7\, Canada
X-APPLE-STRUCTURED-LOCATION;VALUE=URI;X-ADDRESS=940 Lynn Valley Rd\, North 
 Vancouver\, BC\, V7J 1Z7\, Canada;X-APPLE-RADIUS=100;X-TITLE=The Mollie Ny
 e House:geo:0,0
END:VEVENT
BEGIN:VTIMEZONE
TZID:America/Vancouver
X-LIC-LOCATION:America/Vancouver
BEGIN:DAYLIGHT
DTSTART:20240310T030000
TZOFFSETFROM:-0800
TZOFFSETTO:-0700
TZNAME:PDT
END:DAYLIGHT
END:VTIMEZONE
END:VCALENDAR