BEGIN:VCALENDAR
VERSION:2.0
PRODID:-//wp-events-plugin.com//6.4.10.2//EN
TZID:America/Vancouver
X-WR-TIMEZONE:America/Vancouver
BEGIN:VEVENT
UID:3199@lvss.ca
DTSTART;TZID=America/Vancouver:20260521T140000
DTEND;TZID=America/Vancouver:20260521T160000
DTSTAMP:20260416T205233Z
URL:https://www.lvss.ca/programs-events/urban-sketching-creating-expressiv
 e-drawings-in-ink-line-and-watercolour-2/
SUMMARY:Urban Sketching: Creating Expressive Drawings in Ink Line and Water
 colour
DESCRIPTION:Learn how to create expressive drawings in ink line and waterco
 lour\, led by Roman Czemerys.\nRoman Czemerys is a Vancouver - based artis
 t who works primarily in ink and watercolour\, capturing the character of 
 urban and natural landscapes. Trained as an architect\, his work blends st
 ructural understanding with expressive\, spontaneous line. Roman has sketc
 hed in over a dozen countries and throughout British Columbia\, developing
  a practice that values observation\, curiosity\, and personal expression.
 \nThrough his urban sketching workshops\, Roman helps people of all skill 
 levels overcome self-doubt and discover the simple joy of drawing. His tea
 ching approach emphasizes a relaxed\, step-by-step process that makes sket
 ching accessible and rewarding for everyone.\nCost - $50. Materials includ
 ed.\n\nCourse ID: 00427665 Register here\n
ATTACH;FMTTYPE=image/jpeg:https://www.lvss.ca/wp-content/uploads/2026/04/S
 creenshot-2026-04-13-at-22.32.53.png
CATEGORIES:Art &amp; Crafts Workshop,All Registered Programs
LOCATION:The Mollie Nye House\, 940 Lynn Valley Rd\, North Vancouver\, BC\,
  V7J 1Z7\, Canada
X-APPLE-STRUCTURED-LOCATION;VALUE=URI;X-ADDRESS=940 Lynn Valley Rd\, North 
 Vancouver\, BC\, V7J 1Z7\, Canada;X-APPLE-RADIUS=100;X-TITLE=The Mollie Ny
 e House:geo:0,0
END:VEVENT
BEGIN:VTIMEZONE
TZID:America/Vancouver
X-LIC-LOCATION:America/Vancouver
BEGIN:DAYLIGHT
DTSTART:20260308T030000
TZOFFSETFROM:-0800
TZOFFSETTO:-0700
TZNAME:PDT
END:DAYLIGHT
END:VTIMEZONE
END:VCALENDAR