BEGIN:VCALENDAR
VERSION:2.0
PRODID:-//wp-events-plugin.com//6.4.10.2//EN
TZID:America/Vancouver
X-WR-TIMEZONE:America/Vancouver
BEGIN:VEVENT
UID:784@lvss.ca
DTSTART;TZID=America/Vancouver:20240525T120000
DTEND;TZID=America/Vancouver:20240525T150000
DTSTAMP:20240412T181844Z
URL:https://www.lvss.ca/programs-events/second-time-around/
SUMMARY:Second Time Around
DESCRIPTION:You’ll have the opportunity to explore a wide selection of ge
 ntly used Clothing items\, Cd’s Books\, Jewelry\, Accessories… and mor
 e\, all at incredibly affordable prices\, whether you’re searching for t
 rendy pieces\, timeless classics\, or one-of-a-kind gems\, you won’t be 
 disappointed. \nIndulge in delicious snacks and beverages available for pu
 rchase.\nMark your calendars\, remember your support benefits Mollie Nye H
 ouse and the Community!\n\n\n
ATTACH;FMTTYPE=image/jpeg:https://www.lvss.ca/wp-content/uploads/2024/03/S
 econd-time-around.png
CATEGORIES:Special Events
LOCATION:The Mollie Nye House\, 940 Lynn Valley Rd\, North Vancouver\, BC\,
  V7J 1Z7\, Canada
X-APPLE-STRUCTURED-LOCATION;VALUE=URI;X-ADDRESS=940 Lynn Valley Rd\, North 
 Vancouver\, BC\, V7J 1Z7\, Canada;X-APPLE-RADIUS=100;X-TITLE=The Mollie Ny
 e House:geo:0,0
END:VEVENT
BEGIN:VTIMEZONE
TZID:America/Vancouver
X-LIC-LOCATION:America/Vancouver
BEGIN:DAYLIGHT
DTSTART:20240310T030000
TZOFFSETFROM:-0800
TZOFFSETTO:-0700
TZNAME:PDT
END:DAYLIGHT
END:VTIMEZONE
END:VCALENDAR