BEGIN:VCALENDAR
VERSION:2.0
PRODID:-//wp-events-plugin.com//6.4.10.2//EN
TZID:America/Vancouver
X-WR-TIMEZONE:America/Vancouver
BEGIN:VEVENT
UID:760@lvss.ca
DTSTART;TZID=America/Vancouver:20240416T100000
DTEND;TZID=America/Vancouver:20240430T110000
DTSTAMP:20240415T205611Z
URL:https://www.lvss.ca/programs-events/parkinsons-exercise-group-2/
SUMMARY:Parkinson's + Exercise Group
DESCRIPTION:These exercise classes have a Parkinson’s specific component 
 but will suit anyone looking to elevate their strength\, balance\, enduran
 ce\, flexibility and cognition. Set in welcoming and supportive environmen
 t. Taught by Judy Bjornson. PD\, Balance & Master Trainer of Fitness.\nFor
  more information contact Judy at 604-401-9029.
ATTACH;FMTTYPE=image/jpeg:https://www.lvss.ca/wp-content/uploads/2024/03/J
 udys-Group.jpg
CATEGORIES:Seniors Exercise Class,All Activities
LOCATION:The Mollie Nye House\, 940 Lynn Valley Rd\, North Vancouver\, BC\,
  V7J 1Z7\, Canada
X-APPLE-STRUCTURED-LOCATION;VALUE=URI;X-ADDRESS=940 Lynn Valley Rd\, North 
 Vancouver\, BC\, V7J 1Z7\, Canada;X-APPLE-RADIUS=100;X-TITLE=The Mollie Ny
 e House:geo:0,0
END:VEVENT
BEGIN:VTIMEZONE
TZID:America/Vancouver
X-LIC-LOCATION:America/Vancouver
BEGIN:DAYLIGHT
DTSTART:20240310T030000
TZOFFSETFROM:-0800
TZOFFSETTO:-0700
TZNAME:PDT
END:DAYLIGHT
END:VTIMEZONE
END:VCALENDAR