BEGIN:VCALENDAR
VERSION:2.0
PRODID:-//wp-events-plugin.com//6.4.10.2//EN
TZID:America/Vancouver
X-WR-TIMEZONE:America/Vancouver
BEGIN:VEVENT
UID:947@lvss.ca
DTSTART;TZID=America/Vancouver:20250404T190000
DTEND;TZID=America/Vancouver:20250404T210000
DTSTAMP:20250306T205028Z
URL:https://www.lvss.ca/programs-events/john-cronkin/
SUMMARY:John Cronin
DESCRIPTION:Join us for an enchanting evening of music with the talented Jo
 hn Cronin and his guitar at Mollie Nye House\, our beloved community venue
 . Get ready to be seranaded by soulful melodies and heartfelt lyrics. Grab
  your friends and family and immerse yourself in the magic of live music. 
 Create memories that will linger long after the final chord is played.\n\n
 Tickets: $20 each\n\nBeer and wine available for $5. Light snacks provided
 .
ATTACH;FMTTYPE=image/jpeg:https://www.lvss.ca/wp-content/uploads/2024/05/P
 icture1.jpg
CATEGORIES:Special Events,Music @ Mollie Nye House
LOCATION:The Mollie Nye House\, 940 Lynn Valley Rd\, North Vancouver\, BC\,
  V7J 1Z7\, Canada
X-APPLE-STRUCTURED-LOCATION;VALUE=URI;X-ADDRESS=940 Lynn Valley Rd\, North 
 Vancouver\, BC\, V7J 1Z7\, Canada;X-APPLE-RADIUS=100;X-TITLE=The Mollie Ny
 e House:geo:0,0
END:VEVENT
BEGIN:VTIMEZONE
TZID:America/Vancouver
X-LIC-LOCATION:America/Vancouver
BEGIN:DAYLIGHT
DTSTART:20250309T030000
TZOFFSETFROM:-0800
TZOFFSETTO:-0700
TZNAME:PDT
END:DAYLIGHT
END:VTIMEZONE
END:VCALENDAR