BEGIN:VCALENDAR
VERSION:2.0
PRODID:-//wp-events-plugin.com//6.4.10.2//EN
TZID:America/Vancouver
X-WR-TIMEZONE:America/Vancouver
BEGIN:VEVENT
UID:3053@lvss.ca
DTSTART;TZID=America/Vancouver:20260223T160000
DTEND;TZID=America/Vancouver:20260223T170000
DTSTAMP:20260211T201305Z
URL:https://www.lvss.ca/programs-events/intro-to-knitting-2-2026-02-23/
SUMMARY:Beginner Knitting
DESCRIPTION:Join this 3‑class starter session to begin your knitting jour
 ney.\n\nParticipants should bring their own supplies: knitting needles (4.
 5 mm is ideal\, but anything between 3.75 and 5 mm works)\, a ball of yarn
  (#4\, worsted weight — any blend is fine\, or 100% cotton if you want t
 o make a dishcloth)\, and a yarn needle for weaving in ends.\n\nRegister h
 ere\n\nThe cost is $15. Course ID: 00422267
ATTACH;FMTTYPE=image/jpeg:https://www.lvss.ca/wp-content/uploads/2026/02/2
 148791029.jpg
CATEGORIES:Knitting workshop,All Registered Programs
LOCATION:The Mollie Nye House\, 940 Lynn Valley Rd\, North Vancouver\, BC\,
  V7J 1Z7\, Canada
X-APPLE-STRUCTURED-LOCATION;VALUE=URI;X-ADDRESS=940 Lynn Valley Rd\, North 
 Vancouver\, BC\, V7J 1Z7\, Canada;X-APPLE-RADIUS=100;X-TITLE=The Mollie Ny
 e House:geo:0,0
END:VEVENT
BEGIN:VTIMEZONE
TZID:America/Vancouver
X-LIC-LOCATION:America/Vancouver
BEGIN:STANDARD
DTSTART:20251102T010000
TZOFFSETFROM:-0700
TZOFFSETTO:-0800
TZNAME:PST
END:STANDARD
END:VTIMEZONE
END:VCALENDAR