BEGIN:VCALENDAR
VERSION:2.0
PRODID:-//wp-events-plugin.com//6.4.10.2//EN
TZID:America/Vancouver
X-WR-TIMEZONE:America/Vancouver
BEGIN:VEVENT
UID:3051@lvss.ca
DTSTART;TZID=America/Vancouver:20260321T100000
DTEND;TZID=America/Vancouver:20260321T120000
DTSTAMP:20260208T221702Z
URL:https://www.lvss.ca/programs-events/gather-with-helen-murphy-10-2026-0
 3-21/
SUMMARY:Gather with Helen Murphy
DESCRIPTION:Gather offers a calm\, welcoming space where adults 55+ come to
 gether to talk\, listen\, and build meaningful connection at their own pac
 e. As the New Year begins\, new people are always welcome - come once\, co
 me often\, simply come as you are.\n\nRegister through the website or in-p
 erson.\n\nCost:$42 for 6 weeks. Or $8.00 drop in. \n\nTea\, coffee and del
 icious snacks served.
ATTACH;FMTTYPE=image/jpeg:https://www.lvss.ca/wp-content/uploads/2024/02/h
 elens-conversation-group5-rotated.jpg
CATEGORIES:Gather Club with Helen,All Activities
LOCATION:The Mollie Nye House\, 940 Lynn Valley Rd\, North Vancouver\, BC\,
  V7J 1Z7\, Canada
X-APPLE-STRUCTURED-LOCATION;VALUE=URI;X-ADDRESS=940 Lynn Valley Rd\, North 
 Vancouver\, BC\, V7J 1Z7\, Canada;X-APPLE-RADIUS=100;X-TITLE=The Mollie Ny
 e House:geo:0,0
END:VEVENT
BEGIN:VTIMEZONE
TZID:America/Vancouver
X-LIC-LOCATION:America/Vancouver
BEGIN:DAYLIGHT
DTSTART:20260308T030000
TZOFFSETFROM:-0800
TZOFFSETTO:-0700
TZNAME:PDT
END:DAYLIGHT
END:VTIMEZONE
END:VCALENDAR