BEGIN:VCALENDAR
VERSION:2.0
PRODID:-//wp-events-plugin.com//6.4.10.2//EN
TZID:America/Vancouver
X-WR-TIMEZONE:America/Vancouver
BEGIN:VEVENT
UID:3032@lvss.ca
DTSTART;TZID=America/Vancouver:20260320T130000
DTEND;TZID=America/Vancouver:20260320T140000
DTSTAMP:20260205T081734Z
URL:https://www.lvss.ca/programs-events/empwrment-4-life-fitness-4-2026-03
 -20/
SUMMARY:EmPWRment 4 Life Fitness
DESCRIPTION:Join Judy Bjornson for a research‑based exercise program feat
 uring tailored activities for Parkinson’s\, rehab\, strength\, and balan
 ce\, as you connect with others in a positive environment.\n\nTuesdays\, 1
 0 am - 11 am\n\nFridays\, 1 pm - 2 pm\n\nClick to register
ATTACH;FMTTYPE=image/jpeg:https://www.lvss.ca/wp-content/uploads/2026/01/0
 .jpg
CATEGORIES:EmPWRment 4 Life Fitness,All Registered Programs
LOCATION:The Mollie Nye House\, 940 Lynn Valley Rd\, North Vancouver\, BC\,
  V7J 1Z7\, Canada
X-APPLE-STRUCTURED-LOCATION;VALUE=URI;X-ADDRESS=940 Lynn Valley Rd\, North 
 Vancouver\, BC\, V7J 1Z7\, Canada;X-APPLE-RADIUS=100;X-TITLE=The Mollie Ny
 e House:geo:0,0
END:VEVENT
BEGIN:VTIMEZONE
TZID:America/Vancouver
X-LIC-LOCATION:America/Vancouver
BEGIN:DAYLIGHT
DTSTART:20260308T030000
TZOFFSETFROM:-0800
TZOFFSETTO:-0700
TZNAME:PDT
END:DAYLIGHT
END:VTIMEZONE
END:VCALENDAR