BEGIN:VCALENDAR
VERSION:2.0
PRODID:-//wp-events-plugin.com//6.4.10.2//EN
TZID:America/Vancouver
X-WR-TIMEZONE:America/Vancouver
BEGIN:VEVENT
UID:3184@lvss.ca
DTSTART;TZID=America/Vancouver:20260515T130000
DTEND;TZID=America/Vancouver:20260515T140000
DTSTAMP:20260413T160207Z
URL:https://www.lvss.ca/programs-events/empwrment-4-life-fitness-2-2026-05
 -15/
SUMMARY:Seniors Movement\, Fitness and Fall Prevention
DESCRIPTION:Join Judy Bjornson for an exercise program designed to elevate 
 your ability to maintain independence and your activities of daily living 
 while gaining Strength\, Balance\, Flexibility and Movement Safely\, while
  enjoying a fun social environment.\n\nTuesdays\, 10 am - 11 am\n\nFridays
 \, 1 pm - 2 pm\n\nClick to register
ATTACH;FMTTYPE=image/jpeg:https://www.lvss.ca/wp-content/uploads/2026/01/0
 .jpg
CATEGORIES:EmPWRment 4 Life Fitness,All Registered Programs
LOCATION:The Mollie Nye House\, 940 Lynn Valley Rd\, North Vancouver\, BC\,
  V7J 1Z7\, Canada
X-APPLE-STRUCTURED-LOCATION;VALUE=URI;X-ADDRESS=940 Lynn Valley Rd\, North 
 Vancouver\, BC\, V7J 1Z7\, Canada;X-APPLE-RADIUS=100;X-TITLE=The Mollie Ny
 e House:geo:0,0
END:VEVENT
BEGIN:VTIMEZONE
TZID:America/Vancouver
X-LIC-LOCATION:America/Vancouver
BEGIN:DAYLIGHT
DTSTART:20260308T030000
TZOFFSETFROM:-0800
TZOFFSETTO:-0700
TZNAME:PDT
END:DAYLIGHT
END:VTIMEZONE
END:VCALENDAR